0.5000000000
0.0000000000
0.0000000000
-0.5000000000
515793.8481640741
1464291.2354995757
