0.5000000000
0.0000000000
0.0000000000
-0.5000000000
579871.8481640741
1464237.2354995757
