0.5000000000
0.0000000000
0.0000000000
-0.5000000000
484012.8481640741
1432848.2354995757
