0.5000000000
0.0000000000
0.0000000000
-0.5000000000
425776.8481640741
1432768.2354995757
