0.5000000000
0.0000000000
0.0000000000
-0.5000000000
489296.8481640741
1432796.2354995757
