0.5000000000
0.0000000000
0.0000000000
-0.5000000000
425501.8481640741
1401916.2354995757
