0.5000000000
0.0000000000
0.0000000000
-0.5000000000
520807.8481640741
1400574.2354995757
