0.5000000000
0.0000000000
0.0000000000
-0.5000000000
494198.8481640741
1432744.2354995757
