0.5000000000
0.0000000000
0.0000000000
-0.5000000000
399218.8481640741
1401845.2354995757
