0.5000000000
0.0000000000
0.0000000000
-0.5000000000
494242.8481640741
1400892.2354995757
