0.5000000000
0.0000000000
0.0000000000
-0.5000000000
436037.8481640741
1464530.2354995757
