0.5000000000
0.0000000000
0.0000000000
-0.5000000000
404491.8481640741
1401868.2354995757
