0.5000000000
0.0000000000
0.0000000000
-0.5000000000
505127.8481640741
1432585.2354995757
