0.5000000000
0.0000000000
0.0000000000
-0.5000000000
600546.8481640741
1432316.2354995757
