0.5000000000
0.0000000000
0.0000000000
-0.5000000000
383003.8481640741
1401724.2354995757
