0.5000000000
0.0000000000
0.0000000000
-0.5000000000
504795.8481640741
1400799.2354995757
